Workbook
Name _A1: 'OPRAVDANOST PRIJEMA-UDIO'!#REF!
Name _A1: 'OPRAVDANOST PRIJEMA-BROJ'!$E$3
Name _A10: 'OPRAVDANOST PRIJEMA-UDIO'!#REF!
Name _A10: 'OPRAVDANOST PRIJEMA-BROJ'!$N$3
Name _A11: 'OPRAVDANOST PRIJEMA-UDIO'!#REF!
Name _A11: 'OPRAVDANOST PRIJEMA-BROJ'!$O$3
Name _A12: 'OPRAVDANOST PRIJEMA-UDIO'!#REF!
Name _A12: 'OPRAVDANOST PRIJEMA-BROJ'!$P$3
Name _A13: 'OPRAVDANOST PRIJEMA-UDIO'!#REF!
Name _A13: 'OPRAVDANOST PRIJEMA-BROJ'!$Q$3
Name _A14: 'OPRAVDANOST PRIJEMA-UDIO'!#REF!
Name _A14: 'OPRAVDANOST PRIJEMA-BROJ'!$R$3
Name _A15: 'OPRAVDANOST PRIJEMA-UDIO'!#REF!
Name _A15: 'OPRAVDANOST PRIJEMA-BROJ'!$S$3
Name _A16: 'OPRAVDANOST PRIJEMA-UDIO'!#REF!
Name _A16: 'OPRAVDANOST PRIJEMA-BROJ'!$T$3
Name _A17: 'OPRAVDANOST PRIJEMA-UDIO'!#REF!
Name _A17: 'OPRAVDANOST PRIJEMA-BROJ'!$U$3
Name _A18: 'OPRAVDANOST PRIJEMA-UDIO'!#REF!
Name _A18: 'OPRAVDANOST PRIJEMA-BROJ'!$V$3
Name _A19: 'OPRAVDANOST PRIJEMA-UDIO'!#REF!
Name _A19: 'OPRAVDANOST PRIJEMA-BROJ'!$W$3
Name _A2: 'OPRAVDANOST PRIJEMA-UDIO'!#REF!
Name _A2: 'OPRAVDANOST PRIJEMA-BROJ'!$F$3
Name _A20: 'OPRAVDANOST PRIJEMA-UDIO'!#REF!
Name _A20: 'OPRAVDANOST PRIJEMA-BROJ'!$X$3
Name _A3: 'OPRAVDANOST PRIJEMA-UDIO'!#REF!
Name _A3: 'OPRAVDANOST PRIJEMA-BROJ'!$G$3
Name _A4: 'OPRAVDANOST PRIJEMA-UDIO'!#REF!
Name _A4: 'OPRAVDANOST PRIJEMA-BROJ'!$H$3
Name _A5: 'OPRAVDANOST PRIJEMA-UDIO'!#REF!
Name _A5: 'OPRAVDANOST PRIJEMA-BROJ'!$I$3
Name _A6: 'OPRAVDANOST PRIJEMA-UDIO'!#REF!
Name _A6: 'OPRAVDANOST PRIJEMA-BROJ'!$J$3
Name _A7: 'OPRAVDANOST PRIJEMA-UDIO'!#REF!
Name _A7: 'OPRAVDANOST PRIJEMA-BROJ'!$K$3
Name _A8: 'OPRAVDANOST PRIJEMA-UDIO'!#REF!
Name _A8: 'OPRAVDANOST PRIJEMA-BROJ'!$L$3
Name _A9: 'OPRAVDANOST PRIJEMA-UDIO'!#REF!
Name _A9: 'OPRAVDANOST PRIJEMA-BROJ'!$M$3
Name _B1: 'OPRAVDANOST PRIJEMA-UDIO'!#REF!
Name _B1: 'OPRAVDANOST PRIJEMA-BROJ'!$D$50
Name _B10: 'OPRAVDANOST PRIJEMA-UDIO'!#REF!
Name _B10: 'OPRAVDANOST PRIJEMA-BROJ'!$M$50
Name _B11: 'OPRAVDANOST PRIJEMA-UDIO'!#REF!
Name _B11: 'OPRAVDANOST PRIJEMA-BROJ'!$N$50
Name _B12: 'OPRAVDANOST PRIJEMA-UDIO'!#REF!
Name _B12: 'OPRAVDANOST PRIJEMA-BROJ'!$O$50
Name _B13: 'OPRAVDANOST PRIJEMA-UDIO'!#REF!
Name _B13: 'OPRAVDANOST PRIJEMA-BROJ'!$P$50
Name _B14: 'OPRAVDANOST PRIJEMA-UDIO'!#REF!
Name _B14: 'OPRAVDANOST PRIJEMA-BROJ'!$Q$50
Name _B15: 'OPRAVDANOST PRIJEMA-UDIO'!#REF!
Name _B15: 'OPRAVDANOST PRIJEMA-BROJ'!$R$50
Name _B16: 'OPRAVDANOST PRIJEMA-UDIO'!#REF!
Name _B16: 'OPRAVDANOST PRIJEMA-BROJ'!$S$50
Name _B17: 'OPRAVDANOST PRIJEMA-UDIO'!#REF!
Name _B17: 'OPRAVDANOST PRIJEMA-BROJ'!$T$50
Name _B18: 'OPRAVDANOST PRIJEMA-UDIO'!#REF!
Name _B18: 'OPRAVDANOST PRIJEMA-BROJ'!$U$50

Sheet OPRAVDANOST PRIJEMA-BROJ
A1: Red. broj | B1: USTANOVA | D1: Broj slučajeva
D2: Sveukupno slučajeva | E2: Iznenadna nesvjestica | F2: Nenormalno visok ili nizak puls | G2: Nenormalno visok ili nizak krvni tlak | H2: Akutni gubitak vida ili sluha | I2: Akutni gubitak pokretljivosti glavnih dijelova tijela | J2: Uporna groznica | K2: Aktivno krvarenje | L2: Jaka abnormalnost elektrolita ili plinova u krvi mjereno u vrijeme dolaska u bolnicu | M2: Abnormalnost elektrokardiograma | N2: Sumnja na akutnu ishemiju miokarda | O2: Dehiscijencija ili evisceracija rane | P2: Bol koja onesposobljuje | Q2: Parenteralna primjena lijekova i/ili nadoknada tekućine | R2: Značajan postupak u roku od 24 sata nakon prijama | S2: Potrebna bolnička skrb koja je dostupna jedino u akutnoj bolnici | T2: Monitoriranje vitalnih znakova najmanje svaka 2 sata | U2: Sporadična ili kontinuirana uporaba respiratora | V2: Stariji pacijenti s jako otežanim disanjem | W2: otežano disanje uslijed bronhijalne astme | X2: Ostalo
B3: Šifra | C3: Naziv | E3: 1 | F3: 2 | G3: 3 | H3: 4 | I3: 5 | J3: 6 | K3: 7 | L3: 8 | M3: 9 | N3: 10 | O3: 11 | P3: 12 | Q3: 13 | R3: 14 | S3: 15 | T3: 16 | U3: 17 | V3: 18 | W3: 19 | X3: 20
A4: 1 | B4: 029602963 | C4: K.B.C.SPLIT | D4: =SUM(E4:X4) -> 47810 | E4: 4 | F4: 1 | G4: 1 | H4: 2 | I4: 5 | K4: 1 | M4: 3 | N4: 2 | P4: 2 | Q4: 2911 | R4: 3716 | S4: 40978 | T4: 1 | X4: 183
A5: 2 | B5: 006200621 | C5: K.B.C.ZAGREB | D5: =SUM(E5:X5) -> 53071 | E5: 1 | I5: 1 | N5: 13 | P5: 10 | Q5: 3 | R5: 56 | S5: 52948 | X5: 39
A6: 3 | B6: 023902396 | C6: K.B.C.OSIJEK | D6: =SUM(E6:X6) -> 33506 | H6: 1 | O6: 1 | P6: 5 | R6: 289 | S6: 32570 | T6: 1 | U6: 1 | V6: 1 | X6: 637
A7: 4 | B7: 026102617 | C7: K.B.C.RIJEKA | D7: =SUM(E7:X7) -> 35808 | H7: 47 | I7: 1 | P7: 4 | Q7: 1234 | R7: 236 | S7: 34154 | T7: 1 | W7: 1 | X7: 130
A8: 5 | B8: 004400445 | C8: K.B.SESTARA MILOSRDNICA | D8: =SUM(E8:X8) -> 47398 | N8: 1 | P8: 1 | R8: 1468 | S8: 45909 | T8: 4 | U8: 1 | X8: 14
A9: 6 | B9: 047804785 | C9: K.B.DUBRAVA | D9: =SUM(E9:X9) -> 22957 | E9: 3 | H9: 1 | I9: 2 | O9: 1 | P9: 126 | R9: 1494 | S9: 21327 | T9: 1 | U9: 1 | V9: 1
A10: 7 | B10: 005200520 | C10: K.B.MERKUR | D10: =SUM(E10:X10) -> 8674 | I10: 4 | K10: 2 | Q10: 2 | R10: 19 | S10: 8567 | T10: 79 | W10: 1
A11: 8 | B11: 311031102 | C11: KL.ZA DJEČJE BOLESTI | D11: =SUM(E11:X11) -> 6880 | P11: 1 | R11: 27 | S11: 6849 | T11: 1 | U11: 1 | V11: 1
A12: 9 | B12: 050605062 | C12: KL.ZA ORTOPEDIJU LOVRAN | D12: =SUM(E12:X12) -> 3645 | I12: 58 | J12: 1 | O12: 1 | P12: 3571 | R12: 12 | S12: 2
A13: 10 | B13: 007100710 | C13: KL.ZA INFEKTIVNE BOLESTI | D13: =SUM(E13:X13) -> 2719 | S13: 2718 | X13: 1
A14: 11 | B14: 265626560 | C14: O.B.GOSPIĆ | D14: =SUM(E14:X14) -> 3411 | E14: 10 | F14: 5 | G14: 4 | I14: 32 | J14: 6 | K14: 7 | L14: 48 | M14: 9 | N14: 2 | P14: 68 | Q14: 307 | R14: 850 | S14: 1933 | T14: 16 | U14: 2 | V14: 52 | W14: 10 | X14: 50
A15: 12 | B15: 352635266 | C15: O.B.HRVATSKI PONOS KNIN | D15: =SUM(E15:X15) -> 2475 | E15: 2 | F15: 2 | G15: 1 | N15: 1 | S15: 2409 | T15: 1 | X15: 59
A16: 13 | B16: 309430941 | C16: O.B.VUKOVAR | D16: =SUM(E16:X16) -> 5286 | E16: 1 | K16: 4 | N16: 11 | P16: 31 | Q16: 110 | R16: 14 | S16: 4999 | T16: 1 | V16: 10 | X16: 105
A17: 14 | B17: 046604669 | C17: O.B.BJELOVAR | D17: =SUM(E17:X17) -> 10124 | H17: 1 | K17: 44 | P17: 84 | Q17: 114 | R17: 1348 | S17: 8526 | T17: 3 | V17: 2 | W17: 2
A18: 15 | B18: 046104615 | C18: O.B.ČAKOVEC | D18: =SUM(E18:X18) -> 13312 | E18: 5 | F18: 1 | G18: 1 | H18: 2 | I18: 38 | J18: 9 | K18: 18 | M18: 34 | N18: 5 | P18: 7 | Q18: 919 | R18: 73 | S18: 11700 | T18: 445 | V18: 10 | W18: 1 | X18: 44
A19: 16 | B19: 047204729 | C19: O.B.DUBROVNIK | D19: =SUM(E19:X19) -> 9213 | I19: 2 | P19: 2 | R19: 1 | S19: 9205 | W19: 3
A20: 17 | B20: 050805088 | C20: O.B.KARLOVAC | D20: =SUM(E20:X20) -> 10780 | E20: 2 | I20: 13 | J20: 2 | K20: 46 | L20: 3 | M20: 17 | P20: 127 | Q20: 70 | R20: 40 | S20: 10290 | T20: 66 | U20: 1 | V20: 102 | W20: 1
A21: 18 | B21: 046904697 | C21: O.B.KOPRIVNICA | D21: =SUM(E21:X21) -> 10952 | E21: 10 | F21: 6 | G21: 2 | I21: 14 | J21: 24 | K21: 20 | L21: 9 | M21: 15 | N21: 13 | P21: 14 | Q21: 2156 | R21: 784 | S21: 7665 | T21: 81 | U21: 30 | V21: 87 | W21: 11 | X21: 11
A22: 19 | B22: 045604568 | C22: O.Ž.B.NAŠICE | D22: =SUM(E22:X22) -> 4474 | F22: 7 | G22: 4 | K22: 1 | M22: 2 | N22: 3 | P22: 2 | Q22: 21 | R22: 13 | S22: 4290 | T22: 4 | V22: 15 | W22: 2 | X22: 110
A23: 20 | B23: 266626661 | C23: O.B.OGULIN | D23: =SUM(E23:X23) -> 2414 | P23: 1 | Q23: 56 | S23: 2345 | T23: 4 | V23: 1 | X23: 7
A24: 21 | B24: 044904495 | C24: O.B.POŽEGA | D24: =SUM(E24:X24) -> 7313 | E24: 2 | G24: 5 | I24: 10 | J24: 31 | K24: 16 | M24: 2 | N24: 1 | O24: 1 | P24: 14 | Q24: 46 | R24: 203 | S24: 6170 | T24: 92 | V24: 13 | W24: 3 | X24: 704
A25: 22 | B25: 049904990 | C25: O.B.PULA | D25: =SUM(E25:X25) -> 15758 | E25: 2 | H25: 3 | J25: 1 | K25: 1 | M25: 1 | P25: 13 | Q25: 348 | S25: 15374 | T25: 1 | V25: 9 | W25: 5
A26: 23 | B26: 045404542 | C26: O.B.SISAK | D26: =SUM(E26:X26) -> 7944 | E26: 3 | F26: 4 | G26: 1 | I26: 55 | J26: 10 | K26: 21 | L26: 20 | M26: 3 | N26: 18 | O26: 1 | P26: 127 | Q26: 196 | R26: 442 | S26: 6991 | T26: 28 | U26: 3 | V26: 12 | W26: 9
A27: 24 | B27: 046204628 | C27: O.B.SL.BROD | D27: =SUM(E27:X27) -> 15041 | E27: 1 | H27: 3 | I27: 3 | K27: 1 | P27: 106 | Q27: 72 | R27: 127 | S27: 14673 | T27: 18 | U27: 2 | X27: 35
A28: 25 | B28: 051105110 | C28: O.B.ŠIBENIK | D28: =SUM(E28:X28) -> 9194 | I28: 1 | K28: 1 | N28: 1 | P28: 3 | Q28: 38 | R28: 85 | S28: 9061 | T28: 3 | W28: 1
A29: 26 | B29: 047404744 | C29: O.B.VARAŽDIN | D29: =SUM(E29:X29) -> 16789 | P29: 13 | Q29: 267 | R29: 1157 | S29: 14928 | T29: 3 | V29: 2 | W29: 29 | X29: 390
A30: 27 | B30: 050105019 | C30: O.B.VINKOVCI | D30: =SUM(E30:X30) -> 9208 | E30: 1 | F30: 2 | O30: 2 | R30: 8 | S30: 9083 | T30: 79 | U30: 1 | W30: 1 | X30: 31
A31: 28 | B31: 047604760 | C31: O.B.VIROVITICA | D31: =SUM(E31:X31) -> 7851 | Q31: 11 | R31: 70 | S31: 7754 | T31: 5 | X31: 11
A32: 29 | B32: 045804583 | C32: O.B.ZABOK | D32: =SUM(E32:X32) -> 9036 | E32: 1 | G32: 1 | I32: 1 | K32: 7 | M32: 8 | N32: 3 | O32: 2 | P32: 73 | Q32: 6 | R32: 27 | S32: 8905 | T32: 1 | W32: 1
A33: 30 | B33: 049704974 | C33: O.B.ZADAR | D33: =SUM(E33:X33) -> 16917 | E33: 1 | F33: 2 | G33: 1 | H33: 1 | I33: 1 | Q33: 29 | R33: 140 | S33: 16512 | T33: 1 | X33: 229
A34: 31 | B34: 004200420 | C34: K.B.SVETI DUH | D34: =SUM(E34:X34) -> 21898 | E34: 15 | F34: 6 | G34: 11 | H34: 75 | I34: 259 | J34: 13 | K34: 53 | L34: 153 | M34: 53 | N34: 21 | O34: 5 | P34: 115 | Q34: 272 | R34: 484 | S34: 20262 | T34: 63 | U34: 4 | V34: 25 | W34: 9
A35: 32 | B35: 033203326 | C35: S.B.KRAPINSKE TOPLICE | D35: =SUM(E35:X35) -> 821 | S35: 748 | X35: 73
A36: 33 | B36: 048904899 | C36: S.B.THALASSOTHERAPIA OPATIJA | D36: =SUM(E36:X36) -> 997 | E36: 2 | N36: 6 | P36: 5 | Q36: 1 | R36: 1 | S36: 979 | T36: 1 | V36: 2
A37: 34 | B37: 013901397 | C37: S.B.BIOGRAD | D37: =SUM(E37:X37) -> 1830 | Q37: 5 | R37: 1803 | S37: 17 | X37: 5
A38: 35 | B38: 011201126 | C38: P.B.VRAPČE | D38: =SUM(E38:X38) -> 5669 | X38: 5669
A39: 36 | B39: 025902598 | C39: P.B.RAB | D39: =SUM(E39:X39) -> 726 | R39: 1 | S39: 725
A40: 37 | B40: 033803382 | C40: P.B.UGLJAN | D40: =SUM(E40:X40) -> 502 | S40: 502
A41: 38 | B41: 011101113 | C41: P.B.SVETI IVAN | D41: =SUM(E41:X41) -> 716 | S41: 691 | X41: 25
A42: 39 | B42: 021102112 | C42: P.B.POPOVAČA | D42: =SUM(E42:X42) -> 1995 | S42: 1974 | X42: 21
A43: 40 | B43: 048804886 | C43: S.B.GOLJAK | D43: =SUM(E43:X43) -> 1157 | Q43: 1 | R43: 1 | S43: 1154 | T43: 1
A44: 41 | B44: 047904798 | C44: S.B.ZA PLUĆ.BOL.ROCKEFELLEROVA | D44: =SUM(E44:X44) -> 681 | S44: 681
A45: 42 | B45: 048004804 | C45: D.B.SREBRNJAK | D45: =SUM(E45:X45) -> 2243 | K45: 1 | R45: 430 | S45: 1088 | T45: 723 | X45: 1
A46: 43 | B46: 049104918 | C46: P.B.ZA DJECU I MLADEŽ | D46: =SUM(E46:X46) -> 977 | X46: 977
A47: 44 | B47: 308630866 | C47: S.B.MAGDALENA | D47: =SUM(E47:X47) -> 3684 | R47: 3123 | S47: 561
A48: 45 | B48: 341734179 | C48: O.B. NOVA GRADIŠKA | D48: =SUM(E48:X48) -> 3489 | E48: 2 | K48: 6 | P48: 1 | S48: 3393 | T48: 22 | V48: 1 | X48: 64
A49: 46 | B49: 347334733 | C49: O.B.PAKRAC | D49: =SUM(E49:X49) -> 4506 | E49: 5 | F49: 13 | G49: 7 | J49: 3 | K49: 18 | M49: 3 | N49: 48 | P49: 645 | Q49: 2 | R49: 540 | S49: 2887 | T49: 11 | U49: 3 | V49: 186 | W49: 1 | X49: 134
C50: UKUPNO | D50: =SUM(D4:D49) -> 501851 | E50: =SUM(E4:E49) -> 73 | F50: =SUM(F4:F49) -> 49 | G50: =SUM(G4:G49) -> 39 | H50: =SUM(H4:H49) -> 136 | I50: =SUM(I4:I49) -> 500 | J50: =SUM(J4:J49) -> 100 | K50: =SUM(K4:K49) -> 268 | ... X50: =SUM(X4:X49) -> 9759

Sheet OPRAVDANOST PRIJEMA-UDIO
A1: Red. broj | B1: USTANOVA | D1: Udio slučajeva
D2: Iznenadna nesvjestica | E2: Nenormalno visok ili nizak puls | F2: Nenormalno visok ili nizak krvni tlak | G2: Akutni gubitak vida ili sluha | H2: Akutni gubitak pokretljivosti glavnih dijelova tijela | I2: Uporna groznica | J2: Aktivno krvarenje | K2: Jaka abnormalnost elektrolita ili plinova u krvi mjereno u vrijeme dolaska u bolnicu | L2: Abnormalnost elektrokardiograma | M2: Sumnja na akutnu ishemiju miokarda | N2: Dehiscijencija ili evisceracija rane | O2: Bol koja onesposobljuje | P2: Parenteralna primjena lijekova i/ili nadoknada tekućine | Q2: Značajan postupak u roku od 24 sata nakon prijama | R2: Potrebna bolnička skrb koja je dostupna jedino u akutnoj bolnici | S2: Monitoriranje vitalnih znakova najmanje svaka 2 sata | T2: Sporadična ili kontinuirana uporaba respiratora | U2: Stariji pacijenti s jako otežanim disanjem | V2: otežano disanje uslijed bronhijalne astme | W2: Ostalo
B3: Šifra | C3: Naziv | D3: 1 | E3: 2 | F3: 3 | G3: 4 | H3: 5 | I3: 6 | J3: 7 | K3: 8 | L3: 9 | M3: 10 | N3: 11 | O3: 12 | P3: 13 | Q3: 14 | R3: 15 | S3: 16 | T3: 17 | U3: 18 | V3: 19 | W3: 20
A4: 1 | B4: 029602963 | C4: K.B.C.SPLIT | D4: =IF('OPRAVDANOST PRIJEMA-BROJ'!E4=0,0,'OPRAVDANOST PRIJEMA-BROJ'!E4/'OPRAVDANOST PRIJEMA-BROJ'!D4) -> 8.3664505e-05 | E4: =IF('OPRAVDANOST PRIJEMA-BROJ'!F4=0,0,'OPRAVDANOST PRIJEMA-BROJ'!F4/'OPRAVDANOST PRIJEMA-BROJ'!D4) -> 2.0916126e-05 | F4: =IF('OPRAVDANOST PRIJEMA-BROJ'!G4=0,0,'OPRAVDANOST PRIJEMA-BROJ'!G4/'OPRAVDANOST PRIJEMA-BROJ'!D4) -> 2.0916126e-05 | G4: =IF('OPRAVDANOST PRIJEMA-BROJ'!H4=0,0,'OPRAVDANOST PRIJEMA-BROJ'!H4/'OPRAVDANOST PRIJEMA-BROJ'!D4) -> 4.1832253e-05 | H4: =IF('OPRAVDANOST PRIJEMA-BROJ'!I4=0,0,'OPRAVDANOST PRIJEMA-BROJ'!I4/'OPRAVDANOST PRIJEMA-BROJ'!D4) -> 0.00010458063 | I4: =IF('OPRAVDANOST PRIJEMA-BROJ'!J4=0,0,'OPRAVDANOST PRIJEMA-BROJ'!J4/'OPRAVDANOST PRIJEMA-BROJ'!D4) -> 0 | J4: =IF('OPRAVDANOST PRIJEMA-BROJ'!K4=0,0,'OPRAVDANOST PRIJEMA-BROJ'!K4/'OPRAVDANOST PRIJEMA-BROJ'!D4) -> 2.0916126e-05 | K4: =IF('OPRAVDANOST PRIJEMA-BROJ'!L4=0,0,'OPRAVDANOST PRIJEMA-BROJ'!L4/'OPRAVDANOST PRIJEMA-BROJ'!D4) -> 0 | L4: =IF('OPRAVDANOST PRIJEMA-BROJ'!M4=0,0,'OPRAVDANOST PRIJEMA-BROJ'!M4/'OPRAVDANOST PRIJEMA-BROJ'!D4) -> 6.2748379e-05 | M4: =IF('OPRAVDANOST PRIJEMA-BROJ'!N4=0,0,'OPRAVDANOST PRIJEMA-BROJ'!N4/'OPRAVDANOST PRIJEMA-BROJ'!D4) -> 4.1832253e-05 | N4: =IF('OPRAVDANOST PRIJEMA-BROJ'!O4=0,0,'OPRAVDANOST PRIJEMA-BROJ'!O4/'OPRAVDANOST PRIJEMA-BROJ'!D4) -> 0 | O4: =IF('OPRAVDANOST PRIJEMA-BROJ'!P4=0,0,'OPRAVDANOST PRIJEMA-BROJ'!P4/'OPRAVDANOST PRIJEMA-BROJ'!D4) -> 4.1832253e-05 | P4: =IF('OPRAVDANOST PRIJEMA-BROJ'!Q4=0,0,'OPRAVDANOST PRIJEMA-BROJ'!Q4/'OPRAVDANOST PRIJEMA-BROJ'!D4) -> 0.060886844 | Q4: =IF('OPRAVDANOST PRIJEMA-BROJ'!R4=0,0,'OPRAVDANOST PRIJEMA-BROJ'!R4/'OPRAVDANOST PRIJEMA-BROJ'!D4) -> 0.077724325 | R4: =IF('OPRAVDANOST PRIJEMA-BROJ'!S4=0,0,'OPRAVDANOST PRIJEMA-BROJ'!S4/'OPRAVDANOST PRIJEMA-BROJ'!D4) -> 0.85710102 | S4: =IF('OPRAVDANOST PRIJEMA-BROJ'!T4=0,0,'OPRAVDANOST PRIJEMA-BROJ'!T4/'OPRAVDANOST PRIJEMA-BROJ'!D4) -> 2.0916126e-05 | T4: =IF('OPRAVDANOST PRIJEMA-BROJ'!U4=0,0,'OPRAVDANOST PRIJEMA-BROJ'!U4/'OPRAVDANOST PRIJEMA-BROJ'!D4) -> 0 | U4: =IF('OPRAVDANOST PRIJEMA-BROJ'!V4=0,0,'OPRAVDANOST PRIJEMA-BROJ'!V4/'OPRAVDANOST PRIJEMA-BROJ'!D4) -> 0 | V4: =IF('OPRAVDANOST PRIJEMA-BROJ'!W4=0,0,'OPRAVDANOST PRIJEMA-BROJ'!W4/'OPRAVDANOST PRIJEMA-BROJ'!D4) -> 0 | W4: =IF('OPRAVDANOST PRIJEMA-BROJ'!X4=0,0,'OPRAVDANOST PRIJEMA-BROJ'!X4/'OPRAVDANOST PRIJEMA-BROJ'!D4) -> 0.0038276511
A5: 2 | B5: 006200621 | C5: K.B.C.ZAGREB | D5: =IF('OPRAVDANOST PRIJEMA-BROJ'!E5=0,0,'OPRAVDANOST PRIJEMA-BROJ'!E5/'OPRAVDANOST PRIJEMA-BROJ'!D5) -> 1.8842682e-05 | E5: =IF('OPRAVDANOST PRIJEMA-BROJ'!F5=0,0,'OPRAVDANOST PRIJEMA-BROJ'!F5/'OPRAVDANOST PRIJEMA-BROJ'!D5) -> 0 | F5: =IF('OPRAVDANOST PRIJEMA-BROJ'!G5=0,0,'OPRAVDANOST PRIJEMA-BROJ'!G5/'OPRAVDANOST PRIJEMA-BROJ'!D5) -> 0 | G5: =IF('OPRAVDANOST PRIJEMA-BROJ'!H5=0,0,'OPRAVDANOST PRIJEMA-BROJ'!H5/'OPRAVDANOST PRIJEMA-BROJ'!D5) -> 0 | H5: =IF('OPRAVDANOST PRIJEMA-BROJ'!I5=0,0,'OPRAVDANOST PRIJEMA-BROJ'!I5/'OPRAVDANOST PRIJEMA-BROJ'!D5) -> 1.8842682e-05 | I5: =IF('OPRAVDANOST PRIJEMA-BROJ'!J5=0,0,'OPRAVDANOST PRIJEMA-BROJ'!J5/'OPRAVDANOST PRIJEMA-BROJ'!D5) -> 0 | J5: =IF('OPRAVDANOST PRIJEMA-BROJ'!K5=0,0,'OPRAVDANOST PRIJEMA-BROJ'!K5/'OPRAVDANOST PRIJEMA-BROJ'!D5) -> 0 | K5: =IF('OPRAVDANOST PRIJEMA-BROJ'!L5=0,0,'OPRAVDANOST PRIJEMA-BROJ'!L5/'OPRAVDANOST PRIJEMA-BROJ'!D5) -> 0 | L5: =IF('OPRAVDANOST PRIJEMA-BROJ'!M5=0,0,'OPRAVDANOST PRIJEMA-BROJ'!M5/'OPRAVDANOST PRIJEMA-BROJ'!D5) -> 0 | M5: =IF('OPRAVDANOST PRIJEMA-BROJ'!N5=0,0,'OPRAVDANOST PRIJEMA-BROJ'!N5/'OPRAVDANOST PRIJEMA-BROJ'!D5) -> 0.00024495487 | N5: =IF('OPRAVDANOST PRIJEMA-BROJ'!O5=0,0,'OPRAVDANOST PRIJEMA-BROJ'!O5/'OPRAVDANOST PRIJEMA-BROJ'!D5) -> 0 | O5: =IF('OPRAVDANOST PRIJEMA-BROJ'!P5=0,0,'OPRAVDANOST PRIJEMA-BROJ'!P5/'OPRAVDANOST PRIJEMA-BROJ'!D5) -> 0.00018842682 | P5: =IF('OPRAVDANOST PRIJEMA-BROJ'!Q5=0,0,'OPRAVDANOST PRIJEMA-BROJ'!Q5/'OPRAVDANOST PRIJEMA-BROJ'!D5) -> 5.6528047e-05 | Q5: =IF('OPRAVDANOST PRIJEMA-BROJ'!R5=0,0,'OPRAVDANOST PRIJEMA-BROJ'!R5/'OPRAVDANOST PRIJEMA-BROJ'!D5) -> 0.0010551902 | R5: =IF('OPRAVDANOST PRIJEMA-BROJ'!S5=0,0,'OPRAVDANOST PRIJEMA-BROJ'!S5/'OPRAVDANOST PRIJEMA-BROJ'!D5) -> 0.99768235 | S5: =IF('OPRAVDANOST PRIJEMA-BROJ'!T5=0,0,'OPRAVDANOST PRIJEMA-BROJ'!T5/'OPRAVDANOST PRIJEMA-BROJ'!D5) -> 0 | T5: =IF('OPRAVDANOST PRIJEMA-BROJ'!U5=0,0,'OPRAVDANOST PRIJEMA-BROJ'!U5/'OPRAVDANOST PRIJEMA-BROJ'!D5) -> 0 | U5: =IF('OPRAVDANOST PRIJEMA-BROJ'!V5=0,0,'OPRAVDANOST PRIJEMA-BROJ'!V5/'OPRAVDANOST PRIJEMA-BROJ'!D5) -> 0 | V5: =IF('OPRAVDANOST PRIJEMA-BROJ'!W5=0,0,'OPRAVDANOST PRIJEMA-BROJ'!W5/'OPRAVDANOST PRIJEMA-BROJ'!D5) -> 0 | W5: =IF('OPRAVDANOST PRIJEMA-BROJ'!X5=0,0,'OPRAVDANOST PRIJEMA-BROJ'!X5/'OPRAVDANOST PRIJEMA-BROJ'!D5) -> 0.00073486462
A6: 3 | B6: 023902396 | C6: K.B.C.OSIJEK | D6: =IF('OPRAVDANOST PRIJEMA-BROJ'!E6=0,0,'OPRAVDANOST PRIJEMA-BROJ'!E6/'OPRAVDANOST PRIJEMA-BROJ'!D6) -> 0 | E6: =IF('OPRAVDANOST PRIJEMA-BROJ'!F6=0,0,'OPRAVDANOST PRIJEMA-BROJ'!F6/'OPRAVDANOST PRIJEMA-BROJ'!D6) -> 0 | F6: =IF('OPRAVDANOST PRIJEMA-BROJ'!G6=0,0,'OPRAVDANOST PRIJEMA-BROJ'!G6/'OPRAVDANOST PRIJEMA-BROJ'!D6) -> 0 | G6: =IF('OPRAVDANOST PRIJEMA-BROJ'!H6=0,0,'OPRAVDANOST PRIJEMA-BROJ'!H6/'OPRAVDANOST PRIJEMA-BROJ'!D6) -> 2.9845401e-05 | H6: =IF('OPRAVDANOST PRIJEMA-BROJ'!I6=0,0,'OPRAVDANOST PRIJEMA-BROJ'!I6/'OPRAVDANOST PRIJEMA-BROJ'!D6) -> 0 | I6: =IF('OPRAVDANOST PRIJEMA-BROJ'!J6=0,0,'OPRAVDANOST PRIJEMA-BROJ'!J6/'OPRAVDANOST PRIJEMA-BROJ'!D6) -> 0 | J6: =IF('OPRAVDANOST PRIJEMA-BROJ'!K6=0,0,'OPRAVDANOST PRIJEMA-BROJ'!K6/'OPRAVDANOST PRIJEMA-BROJ'!D6) -> 0 | K6: =IF('OPRAVDANOST PRIJEMA-BROJ'!L6=0,0,'OPRAVDANOST PRIJEMA-BROJ'!L6/'OPRAVDANOST PRIJEMA-BROJ'!D6) -> 0 | L6: =IF('OPRAVDANOST PRIJEMA-BROJ'!M6=0,0,'OPRAVDANOST PRIJEMA-BROJ'!M6/'OPRAVDANOST PRIJEMA-BROJ'!D6) -> 0 | M6: =IF('OPRAVDANOST PRIJEMA-BROJ'!N6=0,0,'OPRAVDANOST PRIJEMA-BROJ'!N6/'OPRAVDANOST PRIJEMA-BROJ'!D6) -> 0 | N6: =IF('OPRAVDANOST PRIJEMA-BROJ'!O6=0,0,'OPRAVDANOST PRIJEMA-BROJ'!O6/'OPRAVDANOST PRIJEMA-BROJ'!D6) -> 2.9845401e-05 | O6: =IF('OPRAVDANOST PRIJEMA-BROJ'!P6=0,0,'OPRAVDANOST PRIJEMA-BROJ'!P6/'OPRAVDANOST PRIJEMA-BROJ'!D6) -> 0.000149227 | P6: =IF('OPRAVDANOST PRIJEMA-BROJ'!Q6=0,0,'OPRAVDANOST PRIJEMA-BROJ'!Q6/'OPRAVDANOST PRIJEMA-BROJ'!D6) -> 0 | Q6: =IF('OPRAVDANOST PRIJEMA-BROJ'!R6=0,0,'OPRAVDANOST PRIJEMA-BROJ'!R6/'OPRAVDANOST PRIJEMA-BROJ'!D6) -> 0.0086253208 | R6: =IF('OPRAVDANOST PRIJEMA-BROJ'!S6=0,0,'OPRAVDANOST PRIJEMA-BROJ'!S6/'OPRAVDANOST PRIJEMA-BROJ'!D6) -> 0.9720647 | S6: =IF('OPRAVDANOST PRIJEMA-BROJ'!T6=0,0,'OPRAVDANOST PRIJEMA-BROJ'!T6/'OPRAVDANOST PRIJEMA-BROJ'!D6) -> 2.9845401e-05 | T6: =IF('OPRAVDANOST PRIJEMA-BROJ'!U6=0,0,'OPRAVDANOST PRIJEMA-BROJ'!U6/'OPRAVDANOST PRIJEMA-BROJ'!D6) -> 2.9845401e-05 | U6: =IF('OPRAVDANOST PRIJEMA-BROJ'!V6=0,0,'OPRAVDANOST PRIJEMA-BROJ'!V6/'OPRAVDANOST PRIJEMA-BROJ'!D6) -> 2.9845401e-05 | V6: =IF('OPRAVDANOST PRIJEMA-BROJ'!W6=0,0,'OPRAVDANOST PRIJEMA-BROJ'!W6/'OPRAVDANOST PRIJEMA-BROJ'!D6) -> 0 | W6: =IF('OPRAVDANOST PRIJEMA-BROJ'!X6=0,0,'OPRAVDANOST PRIJEMA-BROJ'!X6/'OPRAVDANOST PRIJEMA-BROJ'!D6) -> 0.01901152
A7: 4 | B7: 026102617 | C7: K.B.C.RIJEKA | D7: =IF('OPRAVDANOST PRIJEMA-BROJ'!E7=0,0,'OPRAVDANOST PRIJEMA-BROJ'!E7/'OPRAVDANOST PRIJEMA-BROJ'!D7) -> 0 | E7: =IF('OPRAVDANOST PRIJEMA-BROJ'!F7=0,0,'OPRAVDANOST PRIJEMA-BROJ'!F7/'OPRAVDANOST PRIJEMA-BROJ'!D7) -> 0 | F7: =IF('OPRAVDANOST PRIJEMA-BROJ'!G7=0,0,'OPRAVDANOST PRIJEMA-BROJ'!G7/'OPRAVDANOST PRIJEMA-BROJ'!D7) -> 0 | G7: =IF('OPRAVDANOST PRIJEMA-BROJ'!H7=0,0,'OPRAVDANOST PRIJEMA-BROJ'!H7/'OPRAVDANOST PRIJEMA-BROJ'!D7) -> 0.0013125559 | H7: =IF('OPRAVDANOST PRIJEMA-BROJ'!I7=0,0,'OPRAVDANOST PRIJEMA-BROJ'!I7/'OPRAVDANOST PRIJEMA-BROJ'!D7) -> 2.792672e-05 | I7: =IF('OPRAVDANOST PRIJEMA-BROJ'!J7=0,0,'OPRAVDANOST PRIJEMA-BROJ'!J7/'OPRAVDANOST PRIJEMA-BROJ'!D7) -> 0 | J7: =IF('OPRAVDANOST PRIJEMA-BROJ'!K7=0,0,'OPRAVDANOST PRIJEMA-BROJ'!K7/'OPRAVDANOST PRIJEMA-BROJ'!D7) -> 0 | K7: =IF('OPRAVDANOST PRIJEMA-BROJ'!L7=0,0,'OPRAVDANOST PRIJEMA-BROJ'!L7/'OPRAVDANOST PRIJEMA-BROJ'!D7) -> 0 | L7: =IF('OPRAVDANOST PRIJEMA-BROJ'!M7=0,0,'OPRAVDANOST PRIJEMA-BROJ'!M7/'OPRAVDANOST PRIJEMA-BROJ'!D7) -> 0 | M7: =IF('OPRAVDANOST PRIJEMA-BROJ'!N7=0,0,'OPRAVDANOST PRIJEMA-BROJ'!N7/'OPRAVDANOST PRIJEMA-BROJ'!D7) -> 0 | N7: =IF('OPRAVDANOST PRIJEMA-BROJ'!O7=0,0,'OPRAVDANOST PRIJEMA-BROJ'!O7/'OPRAVDANOST PRIJEMA-BROJ'!D7) -> 0 | O7: =IF('OPRAVDANOST PRIJEMA-BROJ'!P7=0,0,'OPRAVDANOST PRIJEMA-BROJ'!P7/'OPRAVDANOST PRIJEMA-BROJ'!D7) -> 0.00011170688 | P7: =IF('OPRAVDANOST PRIJEMA-BROJ'!Q7=0,0,'OPRAVDANOST PRIJEMA-BROJ'!Q7/'OPRAVDANOST PRIJEMA-BROJ'!D7) -> 0.034461573 | Q7: =IF('OPRAVDANOST PRIJEMA-BROJ'!R7=0,0,'OPRAVDANOST PRIJEMA-BROJ'!R7/'OPRAVDANOST PRIJEMA-BROJ'!D7) -> 0.006590706 | R7: =IF('OPRAVDANOST PRIJEMA-BROJ'!S7=0,0,'OPRAVDANOST PRIJEMA-BROJ'!S7/'OPRAVDANOST PRIJEMA-BROJ'!D7) -> 0.9538092 | S7: =IF('OPRAVDANOST PRIJEMA-BROJ'!T7=0,0,'OPRAVDANOST PRIJEMA-BROJ'!T7/'OPRAVDANOST PRIJEMA-BROJ'!D7) -> 2.792672e-05 | T7: =IF('OPRAVDANOST PRIJEMA-BROJ'!U7=0,0,'OPRAVDANOST PRIJEMA-BROJ'!U7/'OPRAVDANOST PRIJEMA-BROJ'!D7) -> 0 | U7: =IF('OPRAVDANOST PRIJEMA-BROJ'!V7=0,0,'OPRAVDANOST PRIJEMA-BROJ'!V7/'OPRAVDANOST PRIJEMA-BROJ'!D7) -> 0 | V7: =IF('OPRAVDANOST PRIJEMA-BROJ'!W7=0,0,'OPRAVDANOST PRIJEMA-BROJ'!W7/'OPRAVDANOST PRIJEMA-BROJ'!D7) -> 2.792672e-05 | W7: =IF('OPRAVDANOST PRIJEMA-BROJ'!X7=0,0,'OPRAVDANOST PRIJEMA-BROJ'!X7/'OPRAVDANOST PRIJEMA-BROJ'!D7) -> 0.0036304736
A8: 5 | B8: 004400445 | C8: K.B.SESTARA MILOSRDNICA | D8: =IF('OPRAVDANOST PRIJEMA-BROJ'!E8=0,0,'OPRAVDANOST PRIJEMA-BROJ'!E8/'OPRAVDANOST PRIJEMA-BROJ'!D8) -> 0 | E8: =IF('OPRAVDANOST PRIJEMA-BROJ'!F8=0,0,'OPRAVDANOST PRIJEMA-BROJ'!F8/'OPRAVDANOST PRIJEMA-BROJ'!D8) -> 0 | F8: =IF('OPRAVDANOST PRIJEMA-BROJ'!G8=0,0,'OPRAVDANOST PRIJEMA-BROJ'!G8/'OPRAVDANOST PRIJEMA-BROJ'!D8) -> 0 | G8: =IF('OPRAVDANOST PRIJEMA-BROJ'!H8=0,0,'OPRAVDANOST PRIJEMA-BROJ'!H8/'OPRAVDANOST PRIJEMA-BROJ'!D8) -> 0 | H8: =IF('OPRAVDANOST PRIJEMA-BROJ'!I8=0,0,'OPRAVDANOST PRIJEMA-BROJ'!I8/'OPRAVDANOST PRIJEMA-BROJ'!D8) -> 0 | I8: =IF('OPRAVDANOST PRIJEMA-BROJ'!J8=0,0,'OPRAVDANOST PRIJEMA-BROJ'!J8/'OPRAVDANOST PRIJEMA-BROJ'!D8) -> 0 | J8: =IF('OPRAVDANOST PRIJEMA-BROJ'!K8=0,0,'OPRAVDANOST PRIJEMA-BROJ'!K8/'OPRAVDANOST PRIJEMA-BROJ'!D8) -> 0 | K8: =IF('OPRAVDANOST PRIJEMA-BROJ'!L8=0,0,'OPRAVDANOST PRIJEMA-BROJ'!L8/'OPRAVDANOST PRIJEMA-BROJ'!D8) -> 0 | L8: =IF('OPRAVDANOST PRIJEMA-BROJ'!M8=0,0,'OPRAVDANOST PRIJEMA-BROJ'!M8/'OPRAVDANOST PRIJEMA-BROJ'!D8) -> 0 | M8: =IF('OPRAVDANOST PRIJEMA-BROJ'!N8=0,0,'OPRAVDANOST PRIJEMA-BROJ'!N8/'OPRAVDANOST PRIJEMA-BROJ'!D8) -> 2.1097937e-05 | N8: =IF('OPRAVDANOST PRIJEMA-BROJ'!O8=0,0,'OPRAVDANOST PRIJEMA-BROJ'!O8/'OPRAVDANOST PRIJEMA-BROJ'!D8) -> 0 | O8: =IF('OPRAVDANOST PRIJEMA-BROJ'!P8=0,0,'OPRAVDANOST PRIJEMA-BROJ'!P8/'OPRAVDANOST PRIJEMA-BROJ'!D8) -> 2.1097937e-05 | P8: =IF('OPRAVDANOST PRIJEMA-BROJ'!Q8=0,0,'OPRAVDANOST PRIJEMA-BROJ'!Q8/'OPRAVDANOST PRIJEMA-BROJ'!D8) -> 0 | Q8: =IF('OPRAVDANOST PRIJEMA-BROJ'!R8=0,0,'OPRAVDANOST PRIJEMA-BROJ'!R8/'OPRAVDANOST PRIJEMA-BROJ'!D8) -> 0.030971771 | R8: =IF('OPRAVDANOST PRIJEMA-BROJ'!S8=0,0,'OPRAVDANOST PRIJEMA-BROJ'!S8/'OPRAVDANOST PRIJEMA-BROJ'!D8) -> 0.96858517 | S8: =IF('OPRAVDANOST PRIJEMA-BROJ'!T8=0,0,'OPRAVDANOST PRIJEMA-BROJ'!T8/'OPRAVDANOST PRIJEMA-BROJ'!D8) -> 8.4391746e-05 | T8: =IF('OPRAVDANOST PRIJEMA-BROJ'!U8=0,0,'OPRAVDANOST PRIJEMA-BROJ'!U8/'OPRAVDANOST PRIJEMA-BROJ'!D8) -> 2.1097937e-05 | U8: =IF('OPRAVDANOST PRIJEMA-BROJ'!V8=0,0,'OPRAVDANOST PRIJEMA-BROJ'!V8/'OPRAVDANOST PRIJEMA-BROJ'!D8) -> 0 | V8: =IF('OPRAVDANOST PRIJEMA-BROJ'!W8=0,0,'OPRAVDANOST PRIJEMA-BROJ'!W8/'OPRAVDANOST PRIJEMA-BROJ'!D8) -> 0 | W8: =IF('OPRAVDANOST PRIJEMA-BROJ'!X8=0,0,'OPRAVDANOST PRIJEMA-BROJ'!X8/'OPRAVDANOST PRIJEMA-BROJ'!D8) -> 0.00029537111
A9: 6 | B9: 047804785 | C9: K.B.DUBRAVA | D9: =IF('OPRAVDANOST PRIJEMA-BROJ'!E9=0,0,'OPRAVDANOST PRIJEMA-BROJ'!E9/'OPRAVDANOST PRIJEMA-BROJ'!D9) -> 0.0001306791 | E9: =IF('OPRAVDANOST PRIJEMA-BROJ'!F9=0,0,'OPRAVDANOST PRIJEMA-BROJ'!F9/'OPRAVDANOST PRIJEMA-BROJ'!D9) -> 0 | F9: =IF('OPRAVDANOST PRIJEMA-BROJ'!G9=0,0,'OPRAVDANOST PRIJEMA-BROJ'!G9/'OPRAVDANOST PRIJEMA-BROJ'!D9) -> 0 | G9: =IF('OPRAVDANOST PRIJEMA-BROJ'!H9=0,0,'OPRAVDANOST PRIJEMA-BROJ'!H9/'OPRAVDANOST PRIJEMA-BROJ'!D9) -> 4.3559699e-05 | H9: =IF('OPRAVDANOST PRIJEMA-BROJ'!I9=0,0,'OPRAVDANOST PRIJEMA-BROJ'!I9/'OPRAVDANOST PRIJEMA-BROJ'!D9) -> 8.7119397e-05 | I9: =IF('OPRAVDANOST PRIJEMA-BROJ'!J9=0,0,'OPRAVDANOST PRIJEMA-BROJ'!J9/'OPRAVDANOST PRIJEMA-BROJ'!D9) -> 0 | J9: =IF('OPRAVDANOST PRIJEMA-BROJ'!K9=0,0,'OPRAVDANOST PRIJEMA-BROJ'!K9/'OPRAVDANOST PRIJEMA-BROJ'!D9) -> 0 | K9: =IF('OPRAVDANOST PRIJEMA-BROJ'!L9=0,0,'OPRAVDANOST PRIJEMA-BROJ'!L9/'OPRAVDANOST PRIJEMA-BROJ'!D9) -> 0 | L9: =IF('OPRAVDANOST PRIJEMA-BROJ'!M9=0,0,'OPRAVDANOST PRIJEMA-BROJ'!M9/'OPRAVDANOST PRIJEMA-BROJ'!D9) -> 0 | M9: =IF('OPRAVDANOST PRIJEMA-BROJ'!N9=0,0,'OPRAVDANOST PRIJEMA-BROJ'!N9/'OPRAVDANOST PRIJEMA-BROJ'!D9) -> 0 | N9: =IF('OPRAVDANOST PRIJEMA-BROJ'!O9=0,0,'OPRAVDANOST PRIJEMA-BROJ'!O9/'OPRAVDANOST PRIJEMA-BROJ'!D9) -> 4.3559699e-05 | O9: =IF('OPRAVDANOST PRIJEMA-BROJ'!P9=0,0,'OPRAVDANOST PRIJEMA-BROJ'!P9/'OPRAVDANOST PRIJEMA-BROJ'!D9) -> 0.005488522 | P9: =IF('OPRAVDANOST PRIJEMA-BROJ'!Q9=0,0,'OPRAVDANOST PRIJEMA-BROJ'!Q9/'OPRAVDANOST PRIJEMA-BROJ'!D9) -> 0 | Q9: =IF('OPRAVDANOST PRIJEMA-BROJ'!R9=0,0,'OPRAVDANOST PRIJEMA-BROJ'!R9/'OPRAVDANOST PRIJEMA-BROJ'!D9) -> 0.06507819 | R9: =IF('OPRAVDANOST PRIJEMA-BROJ'!S9=0,0,'OPRAVDANOST PRIJEMA-BROJ'!S9/'OPRAVDANOST PRIJEMA-BROJ'!D9) -> 0.92899769 | S9: =IF('OPRAVDANOST PRIJEMA-BROJ'!T9=0,0,'OPRAVDANOST PRIJEMA-BROJ'!T9/'OPRAVDANOST PRIJEMA-BROJ'!D9) -> 4.3559699e-05 | T9: =IF('OPRAVDANOST PRIJEMA-BROJ'!U9=0,0,'OPRAVDANOST PRIJEMA-BROJ'!U9/'OPRAVDANOST PRIJEMA-BROJ'!D9) -> 4.3559699e-05 | U9: =IF('OPRAVDANOST PRIJEMA-BROJ'!V9=0,0,'OPRAVDANOST PRIJEMA-BROJ'!V9/'OPRAVDANOST PRIJEMA-BROJ'!D9) -> 4.3559699e-05 | V9: =IF('OPRAVDANOST PRIJEMA-BROJ'!W9=0,0,'OPRAVDANOST PRIJEMA-BROJ'!W9/'OPRAVDANOST PRIJEMA-BROJ'!D9) -> 0 | W9: =IF('OPRAVDANOST PRIJEMA-BROJ'!X9=0,0,'OPRAVDANOST PRIJEMA-BROJ'!X9/'OPRAVDANOST PRIJEMA-BROJ'!D9) -> 0
A10: 7 | B10: 005200520 | C10: K.B.MERKUR | D10: =IF('OPRAVDANOST PRIJEMA-BROJ'!E10=0,0,'OPRAVDANOST PRIJEMA-BROJ'!E10/'OPRAVDANOST PRIJEMA-BROJ'!D10) -> 0 | E10: =IF('OPRAVDANOST PRIJEMA-BROJ'!F10=0,0,'OPRAVDANOST PRIJEMA-BROJ'!F10/'OPRAVDANOST PRIJEMA-BROJ'!D10) -> 0 | F10: =IF('OPRAVDANOST PRIJEMA-BROJ'!G10=0,0,'OPRAVDANOST PRIJEMA-BROJ'!G10/'OPRAVDANOST PRIJEMA-BROJ'!D10) -> 0 | G10: =IF('OPRAVDANOST PRIJEMA-BROJ'!H10=0,0,'OPRAVDANOST PRIJEMA-BROJ'!H10/'OPRAVDANOST PRIJEMA-BROJ'!D10) -> 0 | H10: =IF('OPRAVDANOST PRIJEMA-BROJ'!I10=0,0,'OPRAVDANOST PRIJEMA-BROJ'!I10/'OPRAVDANOST PRIJEMA-BROJ'!D10) -> 0.00046114826 | I10: =IF('OPRAVDANOST PRIJEMA-BROJ'!J10=0,0,'OPRAVDANOST PRIJEMA-BROJ'!J10/'OPRAVDANOST PRIJEMA-BROJ'!D10) -> 0 | J10: =IF('OPRAVDANOST PRIJEMA-BROJ'!K10=0,0,'OPRAVDANOST PRIJEMA-BROJ'!K10/'OPRAVDANOST PRIJEMA-BROJ'!D10) -> 0.00023057413 | K10: =IF('OPRAVDANOST PRIJEMA-BROJ'!L10=0,0,'OPRAVDANOST PRIJEMA-BROJ'!L10/'OPRAVDANOST PRIJEMA-BROJ'!D10) -> 0 | L10: =IF('OPRAVDANOST PRIJEMA-BROJ'!M10=0,0,'OPRAVDANOST PRIJEMA-BROJ'!M10/'OPRAVDANOST PRIJEMA-BROJ'!D10) -> 0 | M10: =IF('OPRAVDANOST PRIJEMA-BROJ'!N10=0,0,'OPRAVDANOST PRIJEMA-BROJ'!N10/'OPRAVDANOST PRIJEMA-BROJ'!D10) -> 0 | N10: =IF('OPRAVDANOST PRIJEMA-BROJ'!O10=0,0,'OPRAVDANOST PRIJEMA-BROJ'!O10/'OPRAVDANOST PRIJEMA-BROJ'!D10) -> 0 | O10: =IF('OPRAVDANOST PRIJEMA-BROJ'!P10=0,0,'OPRAVDANOST PRIJEMA-BROJ'!P10/'OPRAVDANOST PRIJEMA-BROJ'!D10) -> 0 | P10: =IF('OPRAVDANOST PRIJEMA-BROJ'!Q10=0,0,'OPRAVDANOST PRIJEMA-BROJ'!Q10/'OPRAVDANOST PRIJEMA-BROJ'!D10) -> 0.00023057413 | Q10: =IF('OPRAVDANOST PRIJEMA-BROJ'!R10=0,0,'OPRAVDANOST PRIJEMA-BROJ'!R10/'OPRAVDANOST PRIJEMA-BROJ'!D10) -> 0.0021904542 | R10: =IF('OPRAVDANOST PRIJEMA-BROJ'!S10=0,0,'OPRAVDANOST PRIJEMA-BROJ'!S10/'OPRAVDANOST PRIJEMA-BROJ'!D10) -> 0.98766428 | S10: =IF('OPRAVDANOST PRIJEMA-BROJ'!T10=0,0,'OPRAVDANOST PRIJEMA-BROJ'!T10/'OPRAVDANOST PRIJEMA-BROJ'!D10) -> 0.0091076781 | T10: =IF('OPRAVDANOST PRIJEMA-BROJ'!U10=0,0,'OPRAVDANOST PRIJEMA-BROJ'!U10/'OPRAVDANOST PRIJEMA-BROJ'!D10) -> 0 | U10: =IF('OPRAVDANOST PRIJEMA-BROJ'!V10=0,0,'OPRAVDANOST PRIJEMA-BROJ'!V10/'OPRAVDANOST PRIJEMA-BROJ'!D10) -> 0 | V10: =IF('OPRAVDANOST PRIJEMA-BROJ'!W10=0,0,'OPRAVDANOST PRIJEMA-BROJ'!W10/'OPRAVDANOST PRIJEMA-BROJ'!D10) -> 0.00011528706 | W10: =IF('OPRAVDANOST PRIJEMA-BROJ'!X10=0,0,'OPRAVDANOST PRIJEMA-BROJ'!X10/'OPRAVDANOST PRIJEMA-BROJ'!D10) -> 0
A11: 8 | B11: 311031102 | C11: KL.ZA DJEČJE BOLESTI | D11: =IF('OPRAVDANOST PRIJEMA-BROJ'!E11=0,0,'OPRAVDANOST PRIJEMA-BROJ'!E11/'OPRAVDANOST PRIJEMA-BROJ'!D11) -> 0 | E11: =IF('OPRAVDANOST PRIJEMA-BROJ'!F11=0,0,'OPRAVDANOST PRIJEMA-BROJ'!F11/'OPRAVDANOST PRIJEMA-BROJ'!D11) -> 0 | F11: =IF('OPRAVDANOST PRIJEMA-BROJ'!G11=0,0,'OPRAVDANOST PRIJEMA-BROJ'!G11/'OPRAVDANOST PRIJEMA-BROJ'!D11) -> 0 | G11: =IF('OPRAVDANOST PRIJEMA-BROJ'!H11=0,0,'OPRAVDANOST PRIJEMA-BROJ'!H11/'OPRAVDANOST PRIJEMA-BROJ'!D11) -> 0 | H11: =IF('OPRAVDANOST PRIJEMA-BROJ'!I11=0,0,'OPRAVDANOST PRIJEMA-BROJ'!I11/'OPRAVDANOST PRIJEMA-BROJ'!D11) -> 0 | I11: =IF('OPRAVDANOST PRIJEMA-BROJ'!J11=0,0,'OPRAVDANOST PRIJEMA-BROJ'!J11/'OPRAVDANOST PRIJEMA-BROJ'!D11) -> 0 | J11: =IF('OPRAVDANOST PRIJEMA-BROJ'!K11=0,0,'OPRAVDANOST PRIJEMA-BROJ'!K11/'OPRAVDANOST PRIJEMA-BROJ'!D11) -> 0 | K11: =IF('OPRAVDANOST PRIJEMA-BROJ'!L11=0,0,'OPRAVDANOST PRIJEMA-BROJ'!L11/'OPRAVDANOST PRIJEMA-BROJ'!D11) -> 0 | L11: =IF('OPRAVDANOST PRIJEMA-BROJ'!M11=0,0,'OPRAVDANOST PRIJEMA-BROJ'!M11/'OPRAVDANOST PRIJEMA-BROJ'!D11) -> 0 | M11: =IF('OPRAVDANOST PRIJEMA-BROJ'!N11=0,0,'OPRAVDANOST PRIJEMA-BROJ'!N11/'OPRAVDANOST PRIJEMA-BROJ'!D11) -> 0 | N11: =IF('OPRAVDANOST PRIJEMA-BROJ'!O11=0,0,'OPRAVDANOST PRIJEMA-BROJ'!O11/'OPRAVDANOST PRIJEMA-BROJ'!D11) -> 0 | O11: =IF('OPRAVDANOST PRIJEMA-BROJ'!P11=0,0,'OPRAVDANOST PRIJEMA-BROJ'!P11/'OPRAVDANOST PRIJEMA-BROJ'!D11) -> 0.00014534884 | P11: =IF('OPRAVDANOST PRIJEMA-BROJ'!Q11=0,0,'OPRAVDANOST PRIJEMA-BROJ'!Q11/'OPRAVDANOST PRIJEMA-BROJ'!D11) -> 0 | Q11: =IF('OPRAVDANOST PRIJEMA-BROJ'!R11=0,0,'OPRAVDANOST PRIJEMA-BROJ'!R11/'OPRAVDANOST PRIJEMA-BROJ'!D11) -> 0.0039244186 | R11: =IF('OPRAVDANOST PRIJEMA-BROJ'!S11=0,0,'OPRAVDANOST PRIJEMA-BROJ'!S11/'OPRAVDANOST PRIJEMA-BROJ'!D11) -> 0.99549419 | S11: =IF('OPRAVDANOST PRIJEMA-BROJ'!T11=0,0,'OPRAVDANOST PRIJEMA-BROJ'!T11/'OPRAVDANOST PRIJEMA-BROJ'!D11) -> 0.00014534884 | T11: =IF('OPRAVDANOST PRIJEMA-BROJ'!U11=0,0,'OPRAVDANOST PRIJEMA-BROJ'!U11/'OPRAVDANOST PRIJEMA-BROJ'!D11) -> 0.00014534884 | U11: =IF('OPRAVDANOST PRIJEMA-BROJ'!V11=0,0,'OPRAVDANOST PRIJEMA-BROJ'!V11/'OPRAVDANOST PRIJEMA-BROJ'!D11) -> 0.00014534884 | V11: =IF('OPRAVDANOST PRIJEMA-BROJ'!W11=0,0,'OPRAVDANOST PRIJEMA-BROJ'!W11/'OPRAVDANOST PRIJEMA-BROJ'!D11) -> 0 | W11: =IF('OPRAVDANOST PRIJEMA-BROJ'!X11=0,0,'OPRAVDANOST PRIJEMA-BROJ'!X11/'OPRAVDANOST PRIJEMA-BROJ'!D11) -> 0
A12: 9 | B12: 050605062 | C12: KL.ZA ORTOPEDIJU LOVRAN | D12: =IF('OPRAVDANOST PRIJEMA-BROJ'!E12=0,0,'OPRAVDANOST PRIJEMA-BROJ'!E12/'OPRAVDANOST PRIJEMA-BROJ'!D12) -> 0 | E12: =IF('OPRAVDANOST PRIJEMA-BROJ'!F12=0,0,'OPRAVDANOST PRIJEMA-BROJ'!F12/'OPRAVDANOST PRIJEMA-BROJ'!D12) -> 0 | F12: =IF('OPRAVDANOST PRIJEMA-BROJ'!G12=0,0,'OPRAVDANOST PRIJEMA-BROJ'!G12/'OPRAVDANOST PRIJEMA-BROJ'!D12) -> 0 | G12: =IF('OPRAVDANOST PRIJEMA-BROJ'!H12=0,0,'OPRAVDANOST PRIJEMA-BROJ'!H12/'OPRAVDANOST PRIJEMA-BROJ'!D12) -> 0 | H12: =IF('OPRAVDANOST PRIJEMA-BROJ'!I12=0,0,'OPRAVDANOST PRIJEMA-BROJ'!I12/'OPRAVDANOST PRIJEMA-BROJ'!D12) -> 0.015912209 | I12: =IF('OPRAVDANOST PRIJEMA-BROJ'!J12=0,0,'OPRAVDANOST PRIJEMA-BROJ'!J12/'OPRAVDANOST PRIJEMA-BROJ'!D12) -> 0.00027434842 | J12: =IF('OPRAVDANOST PRIJEMA-BROJ'!K12=0,0,'OPRAVDANOST PRIJEMA-BROJ'!K12/'OPRAVDANOST PRIJEMA-BROJ'!D12) -> 0 | K12: =IF('OPRAVDANOST PRIJEMA-BROJ'!L12=0,0,'OPRAVDANOST PRIJEMA-BROJ'!L12/'OPRAVDANOST PRIJEMA-BROJ'!D12) -> 0 | L12: =IF('OPRAVDANOST PRIJEMA-BROJ'!M12=0,0,'OPRAVDANOST PRIJEMA-BROJ'!M12/'OPRAVDANOST PRIJEMA-BROJ'!D12) -> 0 | M12: =IF('OPRAVDANOST PRIJEMA-BROJ'!N12=0,0,'OPRAVDANOST PRIJEMA-BROJ'!N12/'OPRAVDANOST PRIJEMA-BROJ'!D12) -> 0 | N12: =IF('OPRAVDANOST PRIJEMA-BROJ'!O12=0,0,'OPRAVDANOST PRIJEMA-BROJ'!O12/'OPRAVDANOST PRIJEMA-BROJ'!D12) -> 0.00027434842 | O12: =IF('OPRAVDANOST PRIJEMA-BROJ'!P12=0,0,'OPRAVDANOST PRIJEMA-BROJ'!P12/'OPRAVDANOST PRIJEMA-BROJ'!D12) -> 0.97969822 | P12: =IF('OPRAVDANOST PRIJEMA-BROJ'!Q12=0,0,'OPRAVDANOST PRIJEMA-BROJ'!Q12/'OPRAVDANOST PRIJEMA-BROJ'!D12) -> 0 | Q12: =IF('OPRAVDANOST PRIJEMA-BROJ'!R12=0,0,'OPRAVDANOST PRIJEMA-BROJ'!R12/'OPRAVDANOST PRIJEMA-BROJ'!D12) -> 0.0032921811 | R12: =IF('OPRAVDANOST PRIJEMA-BROJ'!S12=0,0,'OPRAVDANOST PRIJEMA-BROJ'!S12/'OPRAVDANOST PRIJEMA-BROJ'!D12) -> 0.00054869684 | S12: =IF('OPRAVDANOST PRIJEMA-BROJ'!T12=0,0,'OPRAVDANOST PRIJEMA-BROJ'!T12/'OPRAVDANOST PRIJEMA-BROJ'!D12) -> 0 | T12: =IF('OPRAVDANOST PRIJEMA-BROJ'!U12=0,0,'OPRAVDANOST PRIJEMA-BROJ'!U12/'OPRAVDANOST PRIJEMA-BROJ'!D12) -> 0 | U12: =IF('OPRAVDANOST PRIJEMA-BROJ'!V12=0,0,'OPRAVDANOST PRIJEMA-BROJ'!V12/'OPRAVDANOST PRIJEMA-BROJ'!D12) -> 0 | V12: =IF('OPRAVDANOST PRIJEMA-BROJ'!W12=0,0,'OPRAVDANOST PRIJEMA-BROJ'!W12/'OPRAVDANOST PRIJEMA-BROJ'!D12) -> 0 | W12: =IF('OPRAVDANOST PRIJEMA-BROJ'!X12=0,0,'OPRAVDANOST PRIJEMA-BROJ'!X12/'OPRAVDANOST PRIJEMA-BROJ'!D12) -> 0
A13: 10 | B13: 007100710 | C13: KL.ZA INFEKTIVNE BOLESTI | D13: =IF('OPRAVDANOST PRIJEMA-BROJ'!E13=0,0,'OPRAVDANOST PRIJEMA-BROJ'!E13/'OPRAVDANOST PRIJEMA-BROJ'!D13) -> 0 | E13: =IF('OPRAVDANOST PRIJEMA-BROJ'!F13=0,0,'OPRAVDANOST PRIJEMA-BROJ'!F13/'OPRAVDANOST PRIJEMA-BROJ'!D13) -> 0 | F13: =IF('OPRAVDANOST PRIJEMA-BROJ'!G13=0,0,'OPRAVDANOST PRIJEMA-BROJ'!G13/'OPRAVDANOST PRIJEMA-BROJ'!D13) -> 0 | G13: =IF('OPRAVDANOST PRIJEMA-BROJ'!H13=0,0,'OPRAVDANOST PRIJEMA-BROJ'!H13/'OPRAVDANOST PRIJEMA-BROJ'!D13) -> 0 | H13: =IF('OPRAVDANOST PRIJEMA-BROJ'!I13=0,0,'OPRAVDANOST PRIJEMA-BROJ'!I13/'OPRAVDANOST PRIJEMA-BROJ'!D13) -> 0 | I13: =IF('OPRAVDANOST PRIJEMA-BROJ'!J13=0,0,'OPRAVDANOST PRIJEMA-BROJ'!J13/'OPRAVDANOST PRIJEMA-BROJ'!D13) -> 0 | J13: =IF('OPRAVDANOST PRIJEMA-BROJ'!K13=0,0,'OPRAVDANOST PRIJEMA-BROJ'!K13/'OPRAVDANOST PRIJEMA-BROJ'!D13) -> 0 | K13: =IF('OPRAVDANOST PRIJEMA-BROJ'!L13=0,0,'OPRAVDANOST PRIJEMA-BROJ'!L13/'OPRAVDANOST PRIJEMA-BROJ'!D13) -> 0 | L13: =IF('OPRAVDANOST PRIJEMA-BROJ'!M13=0,0,'OPRAVDANOST PRIJEMA-BROJ'!M13/'OPRAVDANOST PRIJEMA-BROJ'!D13) -> 0 | M13: =IF('OPRAVDANOST PRIJEMA-BROJ'!N13=0,0,'OPRAVDANOST PRIJEMA-BROJ'!N13/'OPRAVDANOST PRIJEMA-BROJ'!D13) -> 0 | N13: =IF('OPRAVDANOST PRIJEMA-BROJ'!O13=0,0,'OPRAVDANOST PRIJEMA-BROJ'!O13/'OPRAVDANOST PRIJEMA-BROJ'!D13) -> 0 | O13: =IF('OPRAVDANOST PRIJEMA-BROJ'!P13=0,0,'OPRAVDANOST PRIJEMA-BROJ'!P13/'OPRAVDANOST PRIJEMA-BROJ'!D13) -> 0 | P13: =IF('OPRAVDANOST PRIJEMA-BROJ'!Q13=0,0,'OPRAVDANOST PRIJEMA-BROJ'!Q13/'OPRAVDANOST PRIJEMA-BROJ'!D13) -> 0 | Q13: =IF('OPRAVDANOST PRIJEMA-BROJ'!R13=0,0,'OPRAVDANOST PRIJEMA-BROJ'!R13/'OPRAVDANOST PRIJEMA-BROJ'!D13) -> 0 | R13: =IF('OPRAVDANOST PRIJEMA-BROJ'!S13=0,0,'OPRAVDANOST PRIJEMA-BROJ'!S13/'OPRAVDANOST PRIJEMA-BROJ'!D13) -> 0.99963222 | S13: =IF('OPRAVDANOST PRIJEMA-BROJ'!T13=0,0,'OPRAVDANOST PRIJEMA-BROJ'!T13/'OPRAVDANOST PRIJEMA-BROJ'!D13) -> 0 | T13: =IF('OPRAVDANOST PRIJEMA-BROJ'!U13=0,0,'OPRAVDANOST PRIJEMA-BROJ'!U13/'OPRAVDANOST PRIJEMA-BROJ'!D13) -> 0 | U13: =IF('OPRAVDANOST PRIJEMA-BROJ'!V13=0,0,'OPRAVDANOST PRIJEMA-BROJ'!V13/'OPRAVDANOST PRIJEMA-BROJ'!D13) -> 0 | V13: =IF('OPRAVDANOST PRIJEMA-BROJ'!W13=0,0,'OPRAVDANOST PRIJEMA-BROJ'!W13/'OPRAVDANOST PRIJEMA-BROJ'!D13) -> 0 | W13: =IF('OPRAVDANOST PRIJEMA-BROJ'!X13=0,0,'OPRAVDANOST PRIJEMA-BROJ'!X13/'OPRAVDANOST PRIJEMA-BROJ'!D13) -> 0.00036778227
A14: 11 | B14: 265626560 | C14: O.B.GOSPIĆ | D14: =IF('OPRAVDANOST PRIJEMA-BROJ'!E14=0,0,'OPRAVDANOST PRIJEMA-BROJ'!E14/'OPRAVDANOST PRIJEMA-BROJ'!D14) -> 0.0029316916 | E14: =IF('OPRAVDANOST PRIJEMA-BROJ'!F14=0,0,'OPRAVDANOST PRIJEMA-BROJ'!F14/'OPRAVDANOST PRIJEMA-BROJ'!D14) -> 0.0014658458 | F14: =IF('OPRAVDANOST PRIJEMA-BROJ'!G14=0,0,'OPRAVDANOST PRIJEMA-BROJ'!G14/'OPRAVDANOST PRIJEMA-BROJ'!D14) -> 0.0011726766 | G14: =IF('OPRAVDANOST PRIJEMA-BROJ'!H14=0,0,'OPRAVDANOST PRIJEMA-BROJ'!H14/'OPRAVDANOST PRIJEMA-BROJ'!D14) -> 0 | H14: =IF('OPRAVDANOST PRIJEMA-BROJ'!I14=0,0,'OPRAVDANOST PRIJEMA-BROJ'!I14/'OPRAVDANOST PRIJEMA-BROJ'!D14) -> 0.0093814131 | I14: =IF('OPRAVDANOST PRIJEMA-BROJ'!J14=0,0,'OPRAVDANOST PRIJEMA-BROJ'!J14/'OPRAVDANOST PRIJEMA-BROJ'!D14) -> 0.001759015 | J14: =IF('OPRAVDANOST PRIJEMA-BROJ'!K14=0,0,'OPRAVDANOST PRIJEMA-BROJ'!K14/'OPRAVDANOST PRIJEMA-BROJ'!D14) -> 0.0020521841 | K14: =IF('OPRAVDANOST PRIJEMA-BROJ'!L14=0,0,'OPRAVDANOST PRIJEMA-BROJ'!L14/'OPRAVDANOST PRIJEMA-BROJ'!D14) -> 0.01407212 | L14: =IF('OPRAVDANOST PRIJEMA-BROJ'!M14=0,0,'OPRAVDANOST PRIJEMA-BROJ'!M14/'OPRAVDANOST PRIJEMA-BROJ'!D14) -> 0.0026385224 | M14: =IF('OPRAVDANOST PRIJEMA-BROJ'!N14=0,0,'OPRAVDANOST PRIJEMA-BROJ'!N14/'OPRAVDANOST PRIJEMA-BROJ'!D14) -> 0.00058633832 | N14: =IF('OPRAVDANOST PRIJEMA-BROJ'!O14=0,0,'OPRAVDANOST PRIJEMA-BROJ'!O14/'OPRAVDANOST PRIJEMA-BROJ'!D14) -> 0 | O14: =IF('OPRAVDANOST PRIJEMA-BROJ'!P14=0,0,'OPRAVDANOST PRIJEMA-BROJ'!P14/'OPRAVDANOST PRIJEMA-BROJ'!D14) -> 0.019935503 | P14: =IF('OPRAVDANOST PRIJEMA-BROJ'!Q14=0,0,'OPRAVDANOST PRIJEMA-BROJ'!Q14/'OPRAVDANOST PRIJEMA-BROJ'!D14) -> 0.090002932 | Q14: =IF('OPRAVDANOST PRIJEMA-BROJ'!R14=0,0,'OPRAVDANOST PRIJEMA-BROJ'!R14/'OPRAVDANOST PRIJEMA-BROJ'!D14) -> 0.24919378 | R14: =IF('OPRAVDANOST PRIJEMA-BROJ'!S14=0,0,'OPRAVDANOST PRIJEMA-BROJ'!S14/'OPRAVDANOST PRIJEMA-BROJ'!D14) -> 0.56669598 | S14: =IF('OPRAVDANOST PRIJEMA-BROJ'!T14=0,0,'OPRAVDANOST PRIJEMA-BROJ'!T14/'OPRAVDANOST PRIJEMA-BROJ'!D14) -> 0.0046907065 | T14: =IF('OPRAVDANOST PRIJEMA-BROJ'!U14=0,0,'OPRAVDANOST PRIJEMA-BROJ'!U14/'OPRAVDANOST PRIJEMA-BROJ'!D14) -> 0.00058633832 | U14: =IF('OPRAVDANOST PRIJEMA-BROJ'!V14=0,0,'OPRAVDANOST PRIJEMA-BROJ'!V14/'OPRAVDANOST PRIJEMA-BROJ'!D14) -> 0.015244796 | V14: =IF('OPRAVDANOST PRIJEMA-BROJ'!W14=0,0,'OPRAVDANOST PRIJEMA-BROJ'!W14/'OPRAVDANOST PRIJEMA-BROJ'!D14) -> 0.0029316916 | W14: =IF('OPRAVDANOST PRIJEMA-BROJ'!X14=0,0,'OPRAVDANOST PRIJEMA-BROJ'!X14/'OPRAVDANOST PRIJEMA-BROJ'!D14) -> 0.014658458
A15: 12 | B15: 352635266 | C15: O.B.HRVATSKI PONOS KNIN | D15: =IF('OPRAVDANOST PRIJEMA-BROJ'!E15=0,0,'OPRAVDANOST PRIJEMA-BROJ'!E15/'OPRAVDANOST PRIJEMA-BROJ'!D15) -> 0.00080808081 | E15: =IF('OPRAVDANOST PRIJEMA-BROJ'!F15=0,0,'OPRAVDANOST PRIJEMA-BROJ'!F15/'OPRAVDANOST PRIJEMA-BROJ'!D15) -> 0.00080808081 | F15: =IF('OPRAVDANOST PRIJEMA-BROJ'!G15=0,0,'OPRAVDANOST PRIJEMA-BROJ'!G15/'OPRAVDANOST PRIJEMA-BROJ'!D15) -> 0.0004040404 | G15: =IF('OPRAVDANOST PRIJEMA-BROJ'!H15=0,0,'OPRAVDANOST PRIJEMA-BROJ'!H15/'OPRAVDANOST PRIJEMA-BROJ'!D15) -> 0 | H15: =IF('OPRAVDANOST PRIJEMA-BROJ'!I15=0,0,'OPRAVDANOST PRIJEMA-BROJ'!I15/'OPRAVDANOST PRIJEMA-BROJ'!D15) -> 0 | I15: =IF('OPRAVDANOST PRIJEMA-BROJ'!J15=0,0,'OPRAVDANOST PRIJEMA-BROJ'!J15/'OPRAVDANOST PRIJEMA-BROJ'!D15) -> 0 | J15: =IF('OPRAVDANOST PRIJEMA-BROJ'!K15=0,0,'OPRAVDANOST PRIJEMA-BROJ'!K15/'OPRAVDANOST PRIJEMA-BROJ'!D15) -> 0 | K15: =IF('OPRAVDANOST PRIJEMA-BROJ'!L15=0,0,'OPRAVDANOST PRIJEMA-BROJ'!L15/'OPRAVDANOST PRIJEMA-BROJ'!D15) -> 0 | L15: =IF('OPRAVDANOST PRIJEMA-BROJ'!M15=0,0,'OPRAVDANOST PRIJEMA-BROJ'!M15/'OPRAVDANOST PRIJEMA-BROJ'!D15) -> 0 | M15: =IF('OPRAVDANOST PRIJEMA-BROJ'!N15=0,0,'OPRAVDANOST PRIJEMA-BROJ'!N15/'OPRAVDANOST PRIJEMA-BROJ'!D15) -> 0.0004040404 | N15: =IF('OPRAVDANOST PRIJEMA-BROJ'!O15=0,0,'OPRAVDANOST PRIJEMA-BROJ'!O15/'OPRAVDANOST PRIJEMA-BROJ'!D15) -> 0 | O15: =IF('OPRAVDANOST PRIJEMA-BROJ'!P15=0,0,'OPRAVDANOST PRIJEMA-BROJ'!P15/'OPRAVDANOST PRIJEMA-BROJ'!D15) -> 0 | P15: =IF('OPRAVDANOST PRIJEMA-BROJ'!Q15=0,0,'OPRAVDANOST PRIJEMA-BROJ'!Q15/'OPRAVDANOST PRIJEMA-BROJ'!D15) -> 0 | Q15: =IF('OPRAVDANOST PRIJEMA-BROJ'!R15=0,0,'OPRAVDANOST PRIJEMA-BROJ'!R15/'OPRAVDANOST PRIJEMA-BROJ'!D15) -> 0 | R15: =IF('OPRAVDANOST PRIJEMA-BROJ'!S15=0,0,'OPRAVDANOST PRIJEMA-BROJ'!S15/'OPRAVDANOST PRIJEMA-BROJ'!D15) -> 0.97333333 | S15: =IF('OPRAVDANOST PRIJEMA-BROJ'!T15=0,0,'OPRAVDANOST PRIJEMA-BROJ'!T15/'OPRAVDANOST PRIJEMA-BROJ'!D15) -> 0.0004040404 | T15: =IF('OPRAVDANOST PRIJEMA-BROJ'!U15=0,0,'OPRAVDANOST PRIJEMA-BROJ'!U15/'OPRAVDANOST PRIJEMA-BROJ'!D15) -> 0 | U15: =IF('OPRAVDANOST PRIJEMA-BROJ'!V15=0,0,'OPRAVDANOST PRIJEMA-BROJ'!V15/'OPRAVDANOST PRIJEMA-BROJ'!D15) -> 0 | V15: =IF('OPRAVDANOST PRIJEMA-BROJ'!W15=0,0,'OPRAVDANOST PRIJEMA-BROJ'!W15/'OPRAVDANOST PRIJEMA-BROJ'!D15) -> 0 | W15: =IF('OPRAVDANOST PRIJEMA-BROJ'!X15=0,0,'OPRAVDANOST PRIJEMA-BROJ'!X15/'OPRAVDANOST PRIJEMA-BROJ'!D15) -> 0.023838384
... A49: 46 | B49: 347334733 | C49: O.B.PAKRAC | D49: =IF('OPRAVDANOST PRIJEMA-BROJ'!E49=0,0,'OPRAVDANOST PRIJEMA-BROJ'!E49/'OPRAVDANOST PRIJEMA-BROJ'!D49) -> 0.0011096316 | E49: =IF('OPRAVDANOST PRIJEMA-BROJ'!F49=0,0,'OPRAVDANOST PRIJEMA-BROJ'!F49/'OPRAVDANOST PRIJEMA-BROJ'!D49) -> 0.0028850422 | F49: =IF('OPRAVDANOST PRIJEMA-BROJ'!G49=0,0,'OPRAVDANOST PRIJEMA-BROJ'!G49/'OPRAVDANOST PRIJEMA-BROJ'!D49) -> 0.0015534842 | G49: =IF('OPRAVDANOST PRIJEMA-BROJ'!H49=0,0,'OPRAVDANOST PRIJEMA-BROJ'!H49/'OPRAVDANOST PRIJEMA-BROJ'!D49) -> 0 | H49: =IF('OPRAVDANOST PRIJEMA-BROJ'!I49=0,0,'OPRAVDANOST PRIJEMA-BROJ'!I49/'OPRAVDANOST PRIJEMA-BROJ'!D49) -> 0 | I49: =IF('OPRAVDANOST PRIJEMA-BROJ'!J49=0,0,'OPRAVDANOST PRIJEMA-BROJ'!J49/'OPRAVDANOST PRIJEMA-BROJ'!D49) -> 0.00066577896 | J49: =IF('OPRAVDANOST PRIJEMA-BROJ'!K49=0,0,'OPRAVDANOST PRIJEMA-BROJ'!K49/'OPRAVDANOST PRIJEMA-BROJ'!D49) -> 0.0039946738 | K49: =IF('OPRAVDANOST PRIJEMA-BROJ'!L49=0,0,'OPRAVDANOST PRIJEMA-BROJ'!L49/'OPRAVDANOST PRIJEMA-BROJ'!D49) -> 0 | L49: =IF('OPRAVDANOST PRIJEMA-BROJ'!M49=0,0,'OPRAVDANOST PRIJEMA-BROJ'!M49/'OPRAVDANOST PRIJEMA-BROJ'!D49) -> 0.00066577896 | M49: =IF('OPRAVDANOST PRIJEMA-BROJ'!N49=0,0,'OPRAVDANOST PRIJEMA-BROJ'!N49/'OPRAVDANOST PRIJEMA-BROJ'!D49) -> 0.010652463 | N49: =IF('OPRAVDANOST PRIJEMA-BROJ'!O49=0,0,'OPRAVDANOST PRIJEMA-BROJ'!O49/'OPRAVDANOST PRIJEMA-BROJ'!D49) -> 0 | O49: =IF('OPRAVDANOST PRIJEMA-BROJ'!P49=0,0,'OPRAVDANOST PRIJEMA-BROJ'!P49/'OPRAVDANOST PRIJEMA-BROJ'!D49) -> 0.14314248 | P49: =IF('OPRAVDANOST PRIJEMA-BROJ'!Q49=0,0,'OPRAVDANOST PRIJEMA-BROJ'!Q49/'OPRAVDANOST PRIJEMA-BROJ'!D49) -> 0.00044385264 | Q49: =IF('OPRAVDANOST PRIJEMA-BROJ'!R49=0,0,'OPRAVDANOST PRIJEMA-BROJ'!R49/'OPRAVDANOST PRIJEMA-BROJ'!D49) -> 0.11984021 | R49: =IF('OPRAVDANOST PRIJEMA-BROJ'!S49=0,0,'OPRAVDANOST PRIJEMA-BROJ'!S49/'OPRAVDANOST PRIJEMA-BROJ'!D49) -> 0.64070129 | S49: =IF('OPRAVDANOST PRIJEMA-BROJ'!T49=0,0,'OPRAVDANOST PRIJEMA-BROJ'!T49/'OPRAVDANOST PRIJEMA-BROJ'!D49) -> 0.0024411895 | T49: =IF('OPRAVDANOST PRIJEMA-BROJ'!U49=0,0,'OPRAVDANOST PRIJEMA-BROJ'!U49/'OPRAVDANOST PRIJEMA-BROJ'!D49) -> 0.00066577896 | U49: =IF('OPRAVDANOST PRIJEMA-BROJ'!V49=0,0,'OPRAVDANOST PRIJEMA-BROJ'!V49/'OPRAVDANOST PRIJEMA-BROJ'!D49) -> 0.041278296 | V49: =IF('OPRAVDANOST PRIJEMA-BROJ'!W49=0,0,'OPRAVDANOST PRIJEMA-BROJ'!W49/'OPRAVDANOST PRIJEMA-BROJ'!D49) -> 0.00022192632 | W49: =IF('OPRAVDANOST PRIJEMA-BROJ'!X49=0,0,'OPRAVDANOST PRIJEMA-BROJ'!X49/'OPRAVDANOST PRIJEMA-BROJ'!D49) -> 0.029738127
C50: UKUPNO | D50: =IF('OPRAVDANOST PRIJEMA-BROJ'!E50=0,0,'OPRAVDANOST PRIJEMA-BROJ'!E50/'OPRAVDANOST PRIJEMA-BROJ'!D50) -> 0.0001454615 | E50: =IF('OPRAVDANOST PRIJEMA-BROJ'!F50=0,0,'OPRAVDANOST PRIJEMA-BROJ'!F50/'OPRAVDANOST PRIJEMA-BROJ'!D50) -> 9.7638542e-05 | F50: =IF('OPRAVDANOST PRIJEMA-BROJ'!G50=0,0,'OPRAVDANOST PRIJEMA-BROJ'!G50/'OPRAVDANOST PRIJEMA-BROJ'!D50) -> 7.7712309e-05 | G50: =IF('OPRAVDANOST PRIJEMA-BROJ'!H50=0,0,'OPRAVDANOST PRIJEMA-BROJ'!H50/'OPRAVDANOST PRIJEMA-BROJ'!D50) -> 0.00027099677 | H50: =IF('OPRAVDANOST PRIJEMA-BROJ'!I50=0,0,'OPRAVDANOST PRIJEMA-BROJ'!I50/'OPRAVDANOST PRIJEMA-BROJ'!D50) -> 0.00099631165 | I50: =IF('OPRAVDANOST PRIJEMA-BROJ'!J50=0,0,'OPRAVDANOST PRIJEMA-BROJ'!J50/'OPRAVDANOST PRIJEMA-BROJ'!D50) -> 0.00019926233 | J50: =IF('OPRAVDANOST PRIJEMA-BROJ'!K50=0,0,'OPRAVDANOST PRIJEMA-BROJ'!K50/'OPRAVDANOST PRIJEMA-BROJ'!D50) -> 0.00053402305 | K50: =IF('OPRAVDANOST PRIJEMA-BROJ'!L50=0,0,'OPRAVDANOST PRIJEMA-BROJ'!L50/'OPRAVDANOST PRIJEMA-BROJ'!D50) -> 0.00046428123 | L50: =IF('OPRAVDANOST PRIJEMA-BROJ'!M50=0,0,'OPRAVDANOST PRIJEMA-BROJ'!M50/'OPRAVDANOST PRIJEMA-BROJ'!D50) -> 0.0002988935 | M50: =IF('OPRAVDANOST PRIJEMA-BROJ'!N50=0,0,'OPRAVDANOST PRIJEMA-BROJ'!N50/'OPRAVDANOST PRIJEMA-BROJ'!D50) -> 0.00029690087 | N50: =IF('OPRAVDANOST PRIJEMA-BROJ'!O50=0,0,'OPRAVDANOST PRIJEMA-BROJ'!O50/'OPRAVDANOST PRIJEMA-BROJ'!D50) -> 2.7896726e-05 | O50: =IF('OPRAVDANOST PRIJEMA-BROJ'!P50=0,0,'OPRAVDANOST PRIJEMA-BROJ'!P50/'OPRAVDANOST PRIJEMA-BROJ'!D50) -> 0.010303855 | P50: =IF('OPRAVDANOST PRIJEMA-BROJ'!Q50=0,0,'OPRAVDANOST PRIJEMA-BROJ'!Q50/'OPRAVDANOST PRIJEMA-BROJ'!D50) -> 0.018326157 | Q50: =IF('OPRAVDANOST PRIJEMA-BROJ'!R50=0,0,'OPRAVDANOST PRIJEMA-BROJ'!R50/'OPRAVDANOST PRIJEMA-BROJ'!D50) -> 0.038023238 | R50: =IF('OPRAVDANOST PRIJEMA-BROJ'!S50=0,0,'OPRAVDANOST PRIJEMA-BROJ'!S50/'OPRAVDANOST PRIJEMA-BROJ'!D50) -> 0.90564132 | S50: =IF('OPRAVDANOST PRIJEMA-BROJ'!T50=0,0,'OPRAVDANOST PRIJEMA-BROJ'!T50/'OPRAVDANOST PRIJEMA-BROJ'!D50) -> 0.0035090096 | T50: =IF('OPRAVDANOST PRIJEMA-BROJ'!U50=0,0,'OPRAVDANOST PRIJEMA-BROJ'!U50/'OPRAVDANOST PRIJEMA-BROJ'!D50) -> 9.9631165e-05 | U50: =IF('OPRAVDANOST PRIJEMA-BROJ'!V50=0,0,'OPRAVDANOST PRIJEMA-BROJ'!V50/'OPRAVDANOST PRIJEMA-BROJ'!D50) -> 0.0010600756 | V50: =IF('OPRAVDANOST PRIJEMA-BROJ'!W50=0,0,'OPRAVDANOST PRIJEMA-BROJ'!W50/'OPRAVDANOST PRIJEMA-BROJ'!D50) -> 0.00018132872 | W50: =IF('OPRAVDANOST PRIJEMA-BROJ'!X50=0,0,'OPRAVDANOST PRIJEMA-BROJ'!X50/'OPRAVDANOST PRIJEMA-BROJ'!D50) -> 0.019446011
